BEGIN:VCALENDAR
VERSION:2.0
PRODID:-//Ateneu l'Alian&ccedil;a de Lli&ccedil;&agrave; d'Amunt - ECPv6.15.20//NONSGML v1.0//EN
CALSCALE:GREGORIAN
METHOD:PUBLISH
X-WR-CALNAME:Ateneu l'Alian&ccedil;a de Lli&ccedil;&agrave; d'Amunt
X-ORIGINAL-URL:https://lalianca.cat
X-WR-CALDESC:Esdeveniments per Ateneu l'Alian&ccedil;a de Lli&ccedil;&agrave; d'Amunt
REFRESH-INTERVAL;VALUE=DURATION:PT1H
X-Robots-Tag:noindex
X-PUBLISHED-TTL:PT1H
BEGIN:VTIMEZONE
TZID:Europe/Madrid
BEGIN:DAYLIGHT
TZOFFSETFROM:+0100
TZOFFSETTO:+0200
TZNAME:CEST
DTSTART:20250330T010000
END:DAYLIGHT
BEGIN:STANDARD
TZOFFSETFROM:+0200
TZOFFSETTO:+0100
TZNAME:CET
DTSTART:20251026T010000
END:STANDARD
BEGIN:DAYLIGHT
TZOFFSETFROM:+0100
TZOFFSETTO:+0200
TZNAME:CEST
DTSTART:20260329T010000
END:DAYLIGHT
BEGIN:STANDARD
TZOFFSETFROM:+0200
TZOFFSETTO:+0100
TZNAME:CET
DTSTART:20261025T010000
END:STANDARD
BEGIN:DAYLIGHT
TZOFFSETFROM:+0100
TZOFFSETTO:+0200
TZNAME:CEST
DTSTART:20270328T010000
END:DAYLIGHT
BEGIN:STANDARD
TZOFFSETFROM:+0200
TZOFFSETTO:+0100
TZNAME:CET
DTSTART:20271031T010000
END:STANDARD
END:VTIMEZONE
BEGIN:VEVENT
DTSTART;TZID=Europe/Madrid:20260424T210000
DTEND;TZID=Europe/Madrid:20260425T003000
DTSTAMP:20260421T035301
CREATED:20260122T101413Z
LAST-MODIFIED:20260214T131754Z
UID:12573-1777064400-1777077000@lalianca.cat
SUMMARY:Lliksound amb CRIM + Cap Quadrat
DESCRIPTION:CRIM\, La millor banda de punk rock del país ens visita per celebrar el Centenari!\nEls de Tarragona presenten el seu cinquè disc\, “Futur medieval” el proper dia 24 d’abril en el marc d’una exitosa gira que els porta per tot l’Estat Espanyol. Actitud\, potència i himnes a dojo. \nHo faran acompanyats de CAP QUADRAT\, una banda barcelonina de noise rock salvatge i boletaire. \nPer Sant Jordi\, CRIM a l’Ateneu! \nPREU ENTRADA: Socis 15 € / No Socis 18 €
URL:https://lalianca.cat/activitat/lliksound-amb-crimcap-quadrat/
CATEGORIES:Concert
ATTACH;FMTTYPE=image/png:https://lalianca.cat/wp-content/uploads/2026/01/Cartell-CRIM-Alianca_IG-1.png
END:VEVENT
BEGIN:VEVENT
DTSTART;TZID=Europe/Madrid:20260426T170000
DTEND;TZID=Europe/Madrid:20260426T180000
DTSTAMP:20260421T035301
CREATED:20260410T092303Z
LAST-MODIFIED:20260410T092303Z
UID:12830-1777222800-1777226400@lalianca.cat
SUMMARY:La llegenda de Sant Jordi
DESCRIPTION:El cap de setmana de la diada més bonica i poètica\, la Companyia Milnotes presenta… La llegenda de Sant Jordi!\n\n\n\nUn espectacle musical i còmic\, participatiu i didàctic al voltant de la llegenda catalana més coneguda. La història tradicional es combina amb cançons en directe\, cantades amb l’ajuda del nostre públic ideal: tots els nens i nenes.\nPer Sant Jordi\, vine al teatre!\n  \n\n\n\nPREUS ENTRADA\n\n3€ Socis \n4€ No Socis Menors d’onze anys \n\n5€ No Socis Majors d’onze anys
URL:https://lalianca.cat/activitat/la-llegenda-de-sant-jordi/
CATEGORIES:Música,Teatre
ATTACH;FMTTYPE=image/png:https://lalianca.cat/wp-content/uploads/2026/04/1080_llegenda_sant_Jordi.png
END:VEVENT
BEGIN:VEVENT
DTSTART;TZID=Europe/Madrid:20260508T220000
DTEND;TZID=Europe/Madrid:20260509T010000
DTSTAMP:20260421T035301
CREATED:20260408T082204Z
LAST-MODIFIED:20260408T082204Z
UID:12820-1778277600-1778288400@lalianca.cat
SUMMARY:LA JAM DE MAIG
DESCRIPTION:T’agradaria fer jamming i cantar amb una banda de veritat? La BANDA GANSA t’està esperant!\n\nVine a gaudir dels clàssics del rock i el pop a la nostra jam session de maig.\n\n  \nCada segon divendres de mes. \n  \n  \nENTRADA LLIURE
URL:https://lalianca.cat/activitat/la-jam-de-maig/
CATEGORIES:Concert
ATTACH;FMTTYPE=image/jpeg:https://lalianca.cat/wp-content/uploads/2026/04/26_1080_JAMS-MAIG.jpg
END:VEVENT
BEGIN:VEVENT
DTSTART;TZID=Europe/Madrid:20260509T090000
DTEND;TZID=Europe/Madrid:20260509T150000
DTSTAMP:20260421T035301
CREATED:20260217T113720Z
LAST-MODIFIED:20260407T105921Z
UID:12724-1778317200-1778338800@lalianca.cat
SUMMARY:Tapadalejada 2026
DESCRIPTION:Torna la Tapadalejada a Lliçà! Treu la pols a la bici i vine a passar-ho bé!\n  \n36 kms (un passeig…)\n6 tapes (les coses importants\, primer…)\n6 begudes (les coses importants\, segon…)\nSamarreta (una més per la col·lecció)\nAssegurança\nSorteig de regals\n  \nQuè més vols??\n  \nPREUS \nSocis 20€ \nNo Socis 25€ \nSortida: Ateneu L’Aliança. \n  \nIMPORTANT!  \nRECOLLIDA DE TIQUETS I SAMARRETES: 7:30h \nINICI PROVA: 9h\n  \nL’activitat no té caràcter competitiu\, no obstant cal anar equipat amb MTB o gravel\, i casc obligatori. L’Organització es reserva el dret a expulsar a qualsevol participant que no vagi amb les condicions necessàries pel bon desenvolupament de l’activitat. 
URL:https://lalianca.cat/activitat/tapadalejada-2026/
CATEGORIES:Prova Esportiva
ATTACH;FMTTYPE=image/jpeg:https://lalianca.cat/wp-content/uploads/2026/02/1080_Tapadalejada_2026-1.jpg
END:VEVENT
BEGIN:VEVENT
DTSTART;TZID=Europe/Madrid:20260510T190000
DTEND;TZID=Europe/Madrid:20260510T210000
DTSTAMP:20260421T035301
CREATED:20260224T101633Z
LAST-MODIFIED:20260224T101633Z
UID:12738-1778439600-1778446800@lalianca.cat
SUMMARY:XAVI CASTILLO - 30 ANYS FENT EL MONIATO!
DESCRIPTION:Des dels primers monòlegs\, al pub l’Escenari d’Alcoi\, fins a l’ùltim “Yonquis del dinero“\, han passat 30 anys de trajectòria de la companyia de teatre Pot de Plom\, amb l’actor\, autor i director Xavi Castillo al capdavant. \nEn tots estos anys hem anat acumulant gran quantitat d’objectes\, que ara recopilem per ensenyar-vos en esta mostra: cartells dels espectacles\, fragments d’escenografia\, vestuari\, utillatge\, màscares…\nEn resum\, tota la merda que hem anat acumulant al local de Pot de Plom\, però ordenada i ben col·locada!\n  \nPREUS\nSocis 8€\nNo Socis 12€\n  \nAmb el carnet del cicle complet tens l’entrada gratuïta!
URL:https://lalianca.cat/activitat/xavi-castillo-30-anys-fent-el-moniato/
CATEGORIES:Teatre
ATTACH;FMTTYPE=image/jpeg:https://lalianca.cat/wp-content/uploads/2026/02/1080px_POT-DE-PLOM_digital.jpg
END:VEVENT
BEGIN:VEVENT
DTSTART;TZID=Europe/Madrid:20260523T080000
DTEND;TZID=Europe/Madrid:20260523T170000
DTSTAMP:20260421T035301
CREATED:20260402T075027Z
LAST-MODIFIED:20260402T075027Z
UID:12798-1779523200-1779555600@lalianca.cat
SUMMARY:JOC DE PISTES 2026
DESCRIPTION:Si la primavera ja ha arribat\, és temps de treure l’agenda\, posar-te les piles i fer un grup amb els teus amics per participar al mític… Joc de Pistes! \nUna gincana brillant\, una diada de joc i riures\, un tren d’emocions! \nI tot el mateix dia!\n  \nINSCRIPCIONS OBERTES DEL 1 AL 30 D’ABRIL (o fins a completar els equips) a AQUÍ\n  \nPREUS \n200€ per equip (6-8 persones) \n  \nINCLOU: PARTICIPACIÓ\, OBSEQUI i DINAR
URL:https://lalianca.cat/activitat/joc-de-pistes-2026/
CATEGORIES:Gincana
ATTACH;FMTTYPE=image/png:https://lalianca.cat/wp-content/uploads/2026/04/Joc_Pistes_cartell_insta.png
END:VEVENT
BEGIN:VEVENT
DTSTART;TZID=Europe/Madrid:20260620T200000
DTEND;TZID=Europe/Madrid:20260620T200000
DTSTAMP:20260421T035301
CREATED:20260416T110835Z
LAST-MODIFIED:20260416T110835Z
UID:12848-1781985600-1781985600@lalianca.cat
SUMMARY:TRAIL NOCTURN 2026
DESCRIPTION:Desafia la foscor\, conquereix els corriols.\nLa distància reina per als amants de l’adrenalina. 15 quilòmetres de camins i corriols sota la llum de la lluna\, on cada gir és una sorpresa i cada pujada un repte. \nPrepara el frontal i sent la màgia de la muntanya de nit en el seu estat més pur. \nEts dels que no s’aturen quan el sol s’amaga? Aquesta és la teva cursa.\n  \nTRAIL 15K (400m de desnivell)\nEXPRÉS 8K (150m de desnivell)\nLA GUILLA INFANTIL\n  \nINSCRIPCIONS: trailnocturnalianca.cat  / @trailnocturnalianca
URL:https://lalianca.cat/activitat/trail-nocturn-2026/
CATEGORIES:Prova Esportiva
ATTACH;FMTTYPE=image/jpeg:https://lalianca.cat/wp-content/uploads/2026/04/cartell-trail-2026-1080.jpg
END:VEVENT
END:VCALENDAR