BEGIN:VCALENDAR
VERSION:2.0
PRODID:-//Ateneu l'Alian&ccedil;a de Lli&ccedil;&agrave; d'Amunt - ECPv6.15.20//NONSGML v1.0//EN
CALSCALE:GREGORIAN
METHOD:PUBLISH
X-ORIGINAL-URL:https://lalianca.cat
X-WR-CALDESC:Esdeveniments per Ateneu l'Alian&ccedil;a de Lli&ccedil;&agrave; d'Amunt
REFRESH-INTERVAL;VALUE=DURATION:PT1H
X-Robots-Tag:noindex
X-PUBLISHED-TTL:PT1H
BEGIN:VTIMEZONE
TZID:Europe/Madrid
BEGIN:DAYLIGHT
TZOFFSETFROM:+0100
TZOFFSETTO:+0200
TZNAME:CEST
DTSTART:20250330T010000
END:DAYLIGHT
BEGIN:STANDARD
TZOFFSETFROM:+0200
TZOFFSETTO:+0100
TZNAME:CET
DTSTART:20251026T010000
END:STANDARD
BEGIN:DAYLIGHT
TZOFFSETFROM:+0100
TZOFFSETTO:+0200
TZNAME:CEST
DTSTART:20260329T010000
END:DAYLIGHT
BEGIN:STANDARD
TZOFFSETFROM:+0200
TZOFFSETTO:+0100
TZNAME:CET
DTSTART:20261025T010000
END:STANDARD
BEGIN:DAYLIGHT
TZOFFSETFROM:+0100
TZOFFSETTO:+0200
TZNAME:CEST
DTSTART:20270328T010000
END:DAYLIGHT
BEGIN:STANDARD
TZOFFSETFROM:+0200
TZOFFSETTO:+0100
TZNAME:CET
DTSTART:20271031T010000
END:STANDARD
END:VTIMEZONE
BEGIN:VEVENT
DTSTART;TZID=Europe/Madrid:20260321T100000
DTEND;TZID=Europe/Madrid:20260321T130000
DTSTAMP:20260419T165414
CREATED:20260227T132304Z
LAST-MODIFIED:20260227T132304Z
UID:12747-1774087200-1774098000@lalianca.cat
SUMMARY:TALLER D'AQUAREL·LES - Eines de cuina i jardineria
DESCRIPTION:Sabies que tu també portes un artista dins? Doncs a pintar!\nL’aquarel·la és una tècnica fantàstica per iniciar-te en el món de la pintura. En aquesta edició la farem centrada en la temàtica de les eines de cuina i jardineria. Vine i t’enduràs la teva paleta a casa!\nUn curs impartit per Anna Serrano.\nPREUS\nSocis 15€\nNo socis 20€\n  \nTOT EL MATERIAL INCLÒS. PLACES LIMITADES: 12 INSCRIPCIONS.
URL:https://lalianca.cat/activitat/taller-daquarel%c2%b7les-eines-de-cuina-i-jardineria/
CATEGORIES:Taller
ATTACH;FMTTYPE=image/jpeg:https://lalianca.cat/wp-content/uploads/2026/02/26_1080_Aquarella-07.jpg
END:VEVENT
END:VCALENDAR