BEGIN:VCALENDAR
VERSION:2.0
PRODID:-//Ateneu l'Alian&ccedil;a de Lli&ccedil;&agrave; d'Amunt - ECPv6.15.20//NONSGML v1.0//EN
CALSCALE:GREGORIAN
METHOD:PUBLISH
X-WR-CALNAME:Ateneu l'Alian&ccedil;a de Lli&ccedil;&agrave; d'Amunt
X-ORIGINAL-URL:https://lalianca.cat
X-WR-CALDESC:Esdeveniments per Ateneu l'Alian&ccedil;a de Lli&ccedil;&agrave; d'Amunt
REFRESH-INTERVAL;VALUE=DURATION:PT1H
X-Robots-Tag:noindex
X-PUBLISHED-TTL:PT1H
BEGIN:VTIMEZONE
TZID:Europe/Madrid
BEGIN:DAYLIGHT
TZOFFSETFROM:+0100
TZOFFSETTO:+0200
TZNAME:CEST
DTSTART:20240331T010000
END:DAYLIGHT
BEGIN:STANDARD
TZOFFSETFROM:+0200
TZOFFSETTO:+0100
TZNAME:CET
DTSTART:20241027T010000
END:STANDARD
BEGIN:DAYLIGHT
TZOFFSETFROM:+0100
TZOFFSETTO:+0200
TZNAME:CEST
DTSTART:20250330T010000
END:DAYLIGHT
BEGIN:STANDARD
TZOFFSETFROM:+0200
TZOFFSETTO:+0100
TZNAME:CET
DTSTART:20251026T010000
END:STANDARD
BEGIN:DAYLIGHT
TZOFFSETFROM:+0100
TZOFFSETTO:+0200
TZNAME:CEST
DTSTART:20260329T010000
END:DAYLIGHT
BEGIN:STANDARD
TZOFFSETFROM:+0200
TZOFFSETTO:+0100
TZNAME:CET
DTSTART:20261025T010000
END:STANDARD
END:VTIMEZONE
BEGIN:VEVENT
DTSTART;TZID=Europe/Madrid:20251115T103000
DTEND;TZID=Europe/Madrid:20251115T130000
DTSTAMP:20260420T000025
CREATED:20251103T121240Z
LAST-MODIFIED:20251103T121838Z
UID:12017-1763202600-1763211600@lalianca.cat
SUMMARY:TALLER DE CUIR "PLUMIER-NECESSER"
DESCRIPTION:Vine a fer el teu estoig de pell i fusta!\nDesenvolupa el teu talent manual fent un plumier-necesser per guardar-hi les teves cosetes en un taller divertit organitzat novament per Bakkhos Militia i Sozo Handmade.\nInclou esmorzar!\nPreu Socis: 30€\nPreu No Socis: 35€\n\n\nReserves: 625334735\nPlaces limitades. \n  \nAmb el suport de l’Ajuntament de Lliçà d’Amunt\, Generalitat de Catalunya i Diputació de Barcelona.
URL:https://lalianca.cat/activitat/taller-de-cuir-plumier-necesser/
CATEGORIES:Taller
ATTACH;FMTTYPE=image/jpeg:https://lalianca.cat/wp-content/uploads/2025/11/Cartell-A3-PLUMIER-1_page-0001-2.jpg
END:VEVENT
END:VCALENDAR