BEGIN:VCALENDAR
VERSION:2.0
PRODID:-//Ateneu l'Alian&ccedil;a de Lli&ccedil;&agrave; d'Amunt - ECPv6.15.20//NONSGML v1.0//EN
CALSCALE:GREGORIAN
METHOD:PUBLISH
X-WR-CALNAME:Ateneu l'Alian&ccedil;a de Lli&ccedil;&agrave; d'Amunt
X-ORIGINAL-URL:https://lalianca.cat
X-WR-CALDESC:Esdeveniments per Ateneu l'Alian&ccedil;a de Lli&ccedil;&agrave; d'Amunt
REFRESH-INTERVAL;VALUE=DURATION:PT1H
X-Robots-Tag:noindex
X-PUBLISHED-TTL:PT1H
BEGIN:VTIMEZONE
TZID:Europe/Madrid
BEGIN:DAYLIGHT
TZOFFSETFROM:+0100
TZOFFSETTO:+0200
TZNAME:CEST
DTSTART:20250330T010000
END:DAYLIGHT
BEGIN:STANDARD
TZOFFSETFROM:+0200
TZOFFSETTO:+0100
TZNAME:CET
DTSTART:20251026T010000
END:STANDARD
BEGIN:DAYLIGHT
TZOFFSETFROM:+0100
TZOFFSETTO:+0200
TZNAME:CEST
DTSTART:20260329T010000
END:DAYLIGHT
BEGIN:STANDARD
TZOFFSETFROM:+0200
TZOFFSETTO:+0100
TZNAME:CET
DTSTART:20261025T010000
END:STANDARD
BEGIN:DAYLIGHT
TZOFFSETFROM:+0100
TZOFFSETTO:+0200
TZNAME:CEST
DTSTART:20270328T010000
END:DAYLIGHT
BEGIN:STANDARD
TZOFFSETFROM:+0200
TZOFFSETTO:+0100
TZNAME:CET
DTSTART:20271031T010000
END:STANDARD
END:VTIMEZONE
BEGIN:VEVENT
DTSTART;TZID=Europe/Madrid:20260516T180000
DTEND;TZID=Europe/Madrid:20260516T213000
DTSTAMP:20260422T131900
CREATED:20260422T093044Z
LAST-MODIFIED:20260422T093044Z
UID:12854-1778954400-1778967000@lalianca.cat
SUMMARY:CERCAVILA I FESTA FAMILIAR DEL CENTENARI
DESCRIPTION:La Cercavila i Festa Familiar del Centenari arriba amb la caloreta de l’estiu a tocar!\nEl proper dissabte 16 de maig no et pots perdre aquesta festa per tota la família amb la implicació de la Colla de Gegants de Lliçà d’Amunt i el Ball de Diables de La Sella. \nComencem amb una cercavila musical i pirotècnica\, seguint per un espectacle infantil (“La trencada de l’olla”) i un taller de clauers. Actuacions\, música i tallers pels més petits de la casa des de les sis fins les deu de la nit\, que el dia allarga! \n  \nAmb la col·laboració de Colla de Gegants de Lliçà\, el Ball de Diables de La Sella\, La Xarranca i Stoks Didàctic.
URL:https://lalianca.cat/activitat/cercavila-i-festa-familiar-del-centenari/
CATEGORIES:Espectacles familiars
ATTACH;FMTTYPE=image/jpeg:https://lalianca.cat/wp-content/uploads/2026/04/26_1080_DIGITAL_FESTAINFANTIL.jpg
END:VEVENT
END:VCALENDAR