BEGIN:VCALENDAR
VERSION:2.0
PRODID:-//Ateneu l'Alian&ccedil;a de Lli&ccedil;&agrave; d'Amunt - ECPv6.15.20//NONSGML v1.0//EN
CALSCALE:GREGORIAN
METHOD:PUBLISH
X-WR-CALNAME:Ateneu l'Alian&ccedil;a de Lli&ccedil;&agrave; d'Amunt
X-ORIGINAL-URL:https://lalianca.cat
X-WR-CALDESC:Esdeveniments per Ateneu l'Alian&ccedil;a de Lli&ccedil;&agrave; d'Amunt
REFRESH-INTERVAL;VALUE=DURATION:PT1H
X-Robots-Tag:noindex
X-PUBLISHED-TTL:PT1H
BEGIN:VTIMEZONE
TZID:Europe/Madrid
BEGIN:DAYLIGHT
TZOFFSETFROM:+0100
TZOFFSETTO:+0200
TZNAME:CEST
DTSTART:20240331T010000
END:DAYLIGHT
BEGIN:STANDARD
TZOFFSETFROM:+0200
TZOFFSETTO:+0100
TZNAME:CET
DTSTART:20241027T010000
END:STANDARD
BEGIN:DAYLIGHT
TZOFFSETFROM:+0100
TZOFFSETTO:+0200
TZNAME:CEST
DTSTART:20250330T010000
END:DAYLIGHT
BEGIN:STANDARD
TZOFFSETFROM:+0200
TZOFFSETTO:+0100
TZNAME:CET
DTSTART:20251026T010000
END:STANDARD
BEGIN:DAYLIGHT
TZOFFSETFROM:+0100
TZOFFSETTO:+0200
TZNAME:CEST
DTSTART:20260329T010000
END:DAYLIGHT
BEGIN:STANDARD
TZOFFSETFROM:+0200
TZOFFSETTO:+0100
TZNAME:CET
DTSTART:20261025T010000
END:STANDARD
END:VTIMEZONE
BEGIN:VEVENT
DTSTART;TZID=Europe/Madrid:20250920T213000
DTEND;TZID=Europe/Madrid:20250920T230000
DTSTAMP:20260420T095336
CREATED:20250915T171519Z
LAST-MODIFIED:20250915T171519Z
UID:11368-1758403800-1758409200@lalianca.cat
SUMMARY:MUSIC BINGO REVOLUTION de Teaming Labs
DESCRIPTION:Teaming Labs presenta \nMUSIC BINGO REVOLUTION\nEquips de 3-5 participants. Inscripcions pel formulari. MOLTS PREMIS EN JOC! \nFORMULARI D’INSCRIPCIONS \nEntrada gratuïta. Servei de bar.
URL:https://lalianca.cat/activitat/music-bingo-revolution-de-teaming-labs/
LOCATION:Sala\, Aliança 17\, Lliçà d'Amunt\, Barcelona\, 08186\, Espanya
CATEGORIES:Activitat participativa,Altres
ATTACH;FMTTYPE=image/jpeg:https://lalianca.cat/wp-content/uploads/2025/08/cartell-music-bingo-revolution.jpg
ORGANIZER;CN="Ateneu l'Alian%C3%A7a de Lli%C3%A7%C3%A0 d'Amunt":MAILTO:bustia@lalianca.cat
END:VEVENT
END:VCALENDAR