BEGIN:VCALENDAR
VERSION:2.0
PRODID:-//Ateneu l'Alian&ccedil;a de Lli&ccedil;&agrave; d'Amunt - ECPv6.15.20//NONSGML v1.0//EN
CALSCALE:GREGORIAN
METHOD:PUBLISH
X-WR-CALNAME:Ateneu l'Alian&ccedil;a de Lli&ccedil;&agrave; d'Amunt
X-ORIGINAL-URL:https://lalianca.cat
X-WR-CALDESC:Esdeveniments per Ateneu l'Alian&ccedil;a de Lli&ccedil;&agrave; d'Amunt
REFRESH-INTERVAL;VALUE=DURATION:PT1H
X-Robots-Tag:noindex
X-PUBLISHED-TTL:PT1H
BEGIN:VTIMEZONE
TZID:Europe/Madrid
BEGIN:DAYLIGHT
TZOFFSETFROM:+0100
TZOFFSETTO:+0200
TZNAME:CEST
DTSTART:20250330T010000
END:DAYLIGHT
BEGIN:STANDARD
TZOFFSETFROM:+0200
TZOFFSETTO:+0100
TZNAME:CET
DTSTART:20251026T010000
END:STANDARD
BEGIN:DAYLIGHT
TZOFFSETFROM:+0100
TZOFFSETTO:+0200
TZNAME:CEST
DTSTART:20260329T010000
END:DAYLIGHT
BEGIN:STANDARD
TZOFFSETFROM:+0200
TZOFFSETTO:+0100
TZNAME:CET
DTSTART:20261025T010000
END:STANDARD
BEGIN:DAYLIGHT
TZOFFSETFROM:+0100
TZOFFSETTO:+0200
TZNAME:CEST
DTSTART:20270328T010000
END:DAYLIGHT
BEGIN:STANDARD
TZOFFSETFROM:+0200
TZOFFSETTO:+0100
TZNAME:CET
DTSTART:20271031T010000
END:STANDARD
END:VTIMEZONE
BEGIN:VEVENT
DTSTART;TZID=Europe/Madrid:20260426T170000
DTEND;TZID=Europe/Madrid:20260426T180000
DTSTAMP:20260426T014052
CREATED:20260410T092303Z
LAST-MODIFIED:20260410T092303Z
UID:12830-1777222800-1777226400@lalianca.cat
SUMMARY:La llegenda de Sant Jordi
DESCRIPTION:El cap de setmana de la diada més bonica i poètica\, la Companyia Milnotes presenta… La llegenda de Sant Jordi!\n\n\n\nUn espectacle musical i còmic\, participatiu i didàctic al voltant de la llegenda catalana més coneguda. La història tradicional es combina amb cançons en directe\, cantades amb l’ajuda del nostre públic ideal: tots els nens i nenes.\nPer Sant Jordi\, vine al teatre!\n  \n\n\n\nPREUS ENTRADA\n\n3€ Socis \n4€ No Socis Menors d’onze anys \n\n5€ No Socis Majors d’onze anys
URL:https://lalianca.cat/activitat/la-llegenda-de-sant-jordi/
CATEGORIES:Música,Teatre
ATTACH;FMTTYPE=image/png:https://lalianca.cat/wp-content/uploads/2026/04/1080_llegenda_sant_Jordi.png
END:VEVENT
END:VCALENDAR